BEGIN:VCALENDAR
VERSION:2.0
PRODID:-//Stadtsportbund Potsdam e.V. - ECPv6.15.18//NONSGML v1.0//EN
CALSCALE:GREGORIAN
METHOD:PUBLISH
X-WR-CALNAME:Stadtsportbund Potsdam e.V.
X-ORIGINAL-URL:https://stadtsportbund-potsdam.de
X-WR-CALDESC:Veranstaltungen für Stadtsportbund Potsdam e.V.
REFRESH-INTERVAL;VALUE=DURATION:PT1H
X-Robots-Tag:noindex
X-PUBLISHED-TTL:PT1H
BEGIN:VTIMEZONE
TZID:Europe/Berlin
BEGIN:DAYLIGHT
TZOFFSETFROM:+0100
TZOFFSETTO:+0200
TZNAME:CEST
DTSTART:20250330T010000
END:DAYLIGHT
BEGIN:STANDARD
TZOFFSETFROM:+0200
TZOFFSETTO:+0100
TZNAME:CET
DTSTART:20251026T010000
END:STANDARD
BEGIN:DAYLIGHT
TZOFFSETFROM:+0100
TZOFFSETTO:+0200
TZNAME:CEST
DTSTART:20260329T010000
END:DAYLIGHT
BEGIN:STANDARD
TZOFFSETFROM:+0200
TZOFFSETTO:+0100
TZNAME:CET
DTSTART:20261025T010000
END:STANDARD
BEGIN:DAYLIGHT
TZOFFSETFROM:+0100
TZOFFSETTO:+0200
TZNAME:CEST
DTSTART:20270328T010000
END:DAYLIGHT
BEGIN:STANDARD
TZOFFSETFROM:+0200
TZOFFSETTO:+0100
TZNAME:CET
DTSTART:20271031T010000
END:STANDARD
END:VTIMEZONE
BEGIN:VEVENT
DTSTART;TZID=Europe/Berlin:20260419T110000
DTEND;TZID=Europe/Berlin:20260419T140000
DTSTAMP:20260419T182656
CREATED:20260310T081327Z
LAST-MODIFIED:20260310T081328Z
UID:6598-1776596400-1776607200@stadtsportbund-potsdam.de
SUMMARY:USV Rugby: Touch-Turnier
DESCRIPTION:Hinweis zur Anreise zu unserem Sportplatz\, da dieser etwas versteckt hinter den zweigeschossigen\, beigefarbenen Gebäuden liegt: \n\n\n\n\nDie Straße macht einen Bogen um die rückwärtigen Gebäude des Neuen Palais. Hier gibt es Parkplätze.\n\n\n\nMit der Kuppel und den großen Säulen im Rücken geht es über die Straße in Richtung der Sportplätze.\n\n\n\nDer Rugby-Platz befindet sich auf der linken Seite. Ihr erkennt ihn auch an den „Rugby-Toren“.\n\n\n\n\nÖffentliche Verkehrsmittel: \n\n\n\n\nDie Buslinien X 5 (nachts)\, 605\, 697 stoppen an der Haltestelle „Campus Universität/A.-Geiger-Kolleg“ in beide Richtungen\, also stadteinwärts und stadtauswärts.\n\n\n\nIn etwa 500 Meter Entfernung befindet sich zudem der Bahnhof Sanssouci mit Haltestelle für den Regionalexpress RE1\, der nach Berlin sowie Magdeburg fährt.\n\n\n\n\nAlternativen: \n\n\n\n\nMit dem Fahrrad kann man aus der Stadt kommend direkt über den asphaltierten Wirtschaftsweg des Park Sanssouci zum Sportplatz kommen.\n\n\n\n\nAnsprechpartner: Michael Domaschk 1vorsitzender@rugby-potsdam.de oder Geschäftsstelle info@usv-potsdam.de 
URL:https://stadtsportbund-potsdam.de/termine/usv-rugby-touch-turnier/
LOCATION:Rugby Potsdam\, Am Neuen Palais 10\, Potsdam\, Brandenburg\, 14469\, Germany
CATEGORIES:Veranstaltung
ORGANIZER;CN="Universit%C3%A4tssportverein Potsdam e.V.":MAILTO:info@usv-potsdam.de
END:VEVENT
BEGIN:VEVENT
DTSTART;TZID=Europe/Berlin:20260419T150000
DTEND;TZID=Europe/Berlin:20260419T180000
DTSTAMP:20260419T182656
CREATED:20260310T081508Z
LAST-MODIFIED:20260310T081509Z
UID:6600-1776610800-1776621600@stadtsportbund-potsdam.de
SUMMARY:USV Rugby: Heimspiel gegen Halle/Leipzig
DESCRIPTION:Hinweis zur Anreise zu unserem Sportplatz\, da dieser etwas versteckt hinter den zweigeschossigen\, beigefarbenen Gebäuden liegt: \n\n\n\n\nDie Straße macht einen Bogen um die rückwärtigen Gebäude des Neuen Palais. Hier gibt es Parkplätze.\n\n\n\nMit der Kuppel und den großen Säulen im Rücken geht es über die Straße in Richtung der Sportplätze.\n\n\n\nDer Rugby-Platz befindet sich auf der linken Seite. Ihr erkennt ihn auch an den „Rugby-Toren“.\n\n\n\n\nÖffentliche Verkehrsmittel: \n\n\n\n\nDie Buslinien X 5 (nachts)\, 605\, 697 stoppen an der Haltestelle „Campus Universität/A.-Geiger-Kolleg“ in beide Richtungen\, also stadteinwärts und stadtauswärts.\n\n\n\nIn etwa 500 Meter Entfernung befindet sich zudem der Bahnhof Sanssouci mit Haltestelle für den Regionalexpress RE1\, der nach Berlin sowie Magdeburg fährt.\n\n\n\n\nAlternativen: \n\n\n\n\nMit dem Fahrrad kann man aus der Stadt kommend direkt über den asphaltierten Wirtschaftsweg des Park Sanssouci zum Sportplatz kommen.\n\n\n\n\nAnsprechpartner: Michael Domaschk 1vorsitzender@rugby-potsdam.de oder Geschäftsstelle info@usv-potsdam.de 
URL:https://stadtsportbund-potsdam.de/termine/usv-rugby-heimspiel-gegen-halle-leipzig/
LOCATION:Rugby Potsdam\, Am Neuen Palais 10\, Potsdam\, Brandenburg\, 14469\, Germany
CATEGORIES:Veranstaltung
ORGANIZER;CN="Universit%C3%A4tssportverein Potsdam e.V.":MAILTO:info@usv-potsdam.de
END:VEVENT
END:VCALENDAR